BEGIN:VCALENDAR
VERSION:2.0
PRODID:-// - ECPv6.15.20//NONSGML v1.0//EN
CALSCALE:GREGORIAN
METHOD:PUBLISH
X-ORIGINAL-URL:https://elizabethghill.com
X-WR-CALDESC:Events for 
REFRESH-INTERVAL;VALUE=DURATION:PT1H
X-Robots-Tag:noindex
X-PUBLISHED-TTL:PT1H
BEGIN:VTIMEZONE
TZID:America/Halifax
BEGIN:DAYLIGHT
TZOFFSETFROM:-0400
TZOFFSETTO:-0300
TZNAME:ADT
DTSTART:20250309T060000
END:DAYLIGHT
BEGIN:STANDARD
TZOFFSETFROM:-0300
TZOFFSETTO:-0400
TZNAME:AST
DTSTART:20251102T050000
END:STANDARD
BEGIN:DAYLIGHT
TZOFFSETFROM:-0400
TZOFFSETTO:-0300
TZNAME:ADT
DTSTART:20260308T060000
END:DAYLIGHT
BEGIN:STANDARD
TZOFFSETFROM:-0300
TZOFFSETTO:-0400
TZNAME:AST
DTSTART:20261101T050000
END:STANDARD
BEGIN:DAYLIGHT
TZOFFSETFROM:-0400
TZOFFSETTO:-0300
TZNAME:ADT
DTSTART:20270314T060000
END:DAYLIGHT
BEGIN:STANDARD
TZOFFSETFROM:-0300
TZOFFSETTO:-0400
TZNAME:AST
DTSTART:20271107T050000
END:STANDARD
END:VTIMEZONE
BEGIN:VEVENT
DTSTART;TZID=America/Halifax:20260510T153000
DTEND;TZID=America/Halifax:20260510T173000
DTSTAMP:20260424T113127
CREATED:20260415T211309Z
LAST-MODIFIED:20260415T211309Z
UID:2772-1778427000-1778434200@elizabethghill.com
SUMMARY:Beyond Earth: A Celestial Odyssey & Cosmic Cycles
DESCRIPTION:Presented by Capital Classical Concerts\nBeyond Earth: A Celestial Odyssey (World Premiere)\nCosmic Cycles: A Space Symphony (Selections) \nIn partnership with NASA’s Goddard Space Flight Center\, Capital Classical Concerts and conductor Piotr Gajewski present the world premiere of Henry Dehlinger’s Beyond Earth: A Celestial Odyssey\, a celebration of space exploration and a meditation on the human spirit that drives it. This cinematic-symphonic work traces humanity’s journey beyond our home planet\, from the daring first steps on the Moon to the edges of our interplanetary aspirations. \nThe program also includes selections from Dehlinger’s celebrated 2023 collaboration with  NASA—Cosmic Cycles: A Space Symphony. Lauded by The Washington Post as “a  harmonically rewarding wander through the stars” and “an unexpected emotional punch\,” Cosmic Cycles has captivated audiences in sold-out halls around the globe. \nWith its shimmering orchestrations and breathtaking visuals from the Webb Space Telescope\, this film-with-live-orchestra concert is both a tribute to our past and a call to keep reaching for the stars. \nTickets available here.
URL:https://elizabethghill.com/performance/beyond-earth-a-celestial-odyssey-cosmic-cycles/
LOCATION:Music Center at Strathmore\, 5301 Tuckerman Ln\,\, North Bethesda\, MD\, 20852\, United States
CATEGORIES:New Music,Symphony Number One,Symphony Orchestra
END:VEVENT
BEGIN:VEVENT
DTSTART;TZID=America/Halifax:20260522T180000
DTEND;TZID=America/Halifax:20260522T193000
DTSTAMP:20260424T113127
CREATED:20260415T210054Z
LAST-MODIFIED:20260415T210054Z
UID:2765-1779472800-1779478200@elizabethghill.com
SUMMARY:In Recital with Patrice P. Eaton\, Mezzo-Soprano
DESCRIPTION:
URL:https://elizabethghill.com/performance/in-recital-with-patrice-p-eaton-mezzo-soprano/
LOCATION:CUNY Graduate Center\, 365 5th Ave\, New York\, NY\, 10016\, United States
CATEGORIES:Art Song,Lieder,New Music
END:VEVENT
BEGIN:VEVENT
DTSTART;TZID=America/Halifax:20260712T150000
DTEND;TZID=America/Halifax:20260712T170000
DTSTAMP:20260424T113127
CREATED:20250526T200017Z
LAST-MODIFIED:20260303T060222Z
UID:2615-1783868400-1783875600@elizabethghill.com
SUMMARY:WMPA Lyceum Chamber Series
DESCRIPTION:The Washington Metropolitan Philharmonic Association presents their 36th annual “Live at the Lyceum” Summer Chamber Music Series. Featuring Crystal Lee\, flute\, Brittany Pemberton\, clarinet\, and Elizabeth Hill\, piano; program info coming soon. \nNo tickets required; suggested donation is $25.
URL:https://elizabethghill.com/performance/wmpa-lyceum-chamber-series/
LOCATION:The Lyceum\, 201 S. Washington St.\, Alexandria\, VA\, 22314\, United States
CATEGORIES:Chamber Music,New Music
END:VEVENT
BEGIN:VEVENT
DTSTART;VALUE=DATE:20260713
DTEND;VALUE=DATE:20260803
DTSTAMP:20260424T113127
CREATED:20250403T213346Z
LAST-MODIFIED:20260303T055122Z
UID:2599-1783900800-1785715199@elizabethghill.com
SUMMARY:Heifetz International Music Institute
DESCRIPTION:  \nCollaborative Piano Faculty member for the 2026 institute; an intensive six-week summer program where exceptional young musicians develop their artistry\, communication\, and performance skills.
URL:https://elizabethghill.com/performance/heifetz-international-music-institute-3/
CATEGORIES:Chamber Music,Heifetz International Music Institute
END:VEVENT
END:VCALENDAR